BEGIN:VCALENDAR
VERSION:2.0
METHOD:PUBLISH
BEGIN:VEVENT
UID:WILD_APRICOT_EVENT_2578931_SESSION_1
DTSTART:20170906T193000Z
DTEND:20170906T200000Z
SUMMARY:NZSUG AGM
LOCATION:Aotea Centre\, 50 Mayoral Drive\, Auckland
DESCRIPTION:http://nzsug.co.nz/event-2578931\n\nNew Zealand SAP User Group will be holding their Annual General Meeting along with the Auckland event.\n  Location: Lower NZI Rooms\, Aotea Centre\, 50 Mayoral Drive. Auckland\n\n  Date: Thursday 7th Sept 2017\n  AGM 7:30am\n   \n  The AGM will take no more than 30 minutes (probably less). We need you to attend so we have a quorum and to sweeten the deal we will provide tea/coffee and a snack to start your day off.\n   \n  The AGM documents can be found here. \n   \n     \n
DTSTAMP:20180120T190921Z
END:VEVENT
END:VCALENDAR
