BEGIN:VCALENDAR
VERSION:2.0
METHOD:PUBLISH
BEGIN:VEVENT
UID:WILD_APRICOT_EVENT_2355818_SESSION_1
DTSTART:20170409T210000Z
DTEND:20170410T033000Z
SUMMARY:NZSUG Christchurch Event 2017
LOCATION:Tait Communications\, 245 Wooldridge Road\, Harewood\, Christchurch
DESCRIPTION:http://nzsug.co.nz/event-2355818\n\nHuawei phone spot prizes to be won.\n           We have some exciting presentations to offer including:\n      *             Hitting the AIT/UX/Mobile Tri-fecta        \n\n        *             SAP Solution Manager         \n\n        *             Migration to SAP HANA        \n\n        *             SAP WebDynpro Online Forms        \n\n        *             SAP Products                          \n\n     The agenda can be found on our website here.          \n        \n   \n      \n
DTSTAMP:20180120T190952Z
END:VEVENT
END:VCALENDAR
