BEGIN:VCALENDAR
VERSION:2.0
METHOD:PUBLISH
BEGIN:VEVENT
UID:WILD_APRICOT_EVENT_2355817_SESSION_1
DTSTART:20170607T210000Z
DTEND:20170608T040000Z
SUMMARY:NZSUG Wellington Event 2017
LOCATION:KPMG\, 10 Customhouse Quay\, Wellington
DESCRIPTION:http://nzsug.co.nz/event-2355817\n\nWe have some fantastic content to present in Wellington running in two streams including:\n      *             SAPPHIRE NOW Update        \n\n        *             Making Digital Data come to life            \n\n        *             Machine Learning and Intelligent Digital Assistants                  \n\n        *             S4/HANA Conversion Migration Paths        \n\n        *             Disclosure Management                  \n\n        *             Agile SAP Development         \n\n        *             Digital Leadership        \n\n        *             SuccessFactor Implementation Learnings        \n\n        *             Documentation and Change Services        \n\n        *             Digital Foray        \n\n        *             Business Case for S4/HANA        \n\n        *             Reduce Risk and increase Supplier Effectiveness        \n\n        *             Mobile Technology\n         \n\n  An overview of presentations can be found on our website here and the agenda is also available via the website here.\n   \n  Look forward to seeing you at the event.\n  NZSUG Executive\n   \n   \n\n       \n
DTSTAMP:20180120T190931Z
END:VEVENT
END:VCALENDAR
