BEGIN:VCALENDAR
VERSION:2.0
METHOD:PUBLISH
BEGIN:VEVENT
UID:WILD_APRICOT_EVENT_2355814_SESSION_1
DTSTART:20180320T200000Z
DTEND:20180321T030000Z
SUMMARY:NZSUG Hamilton Event 2018
LOCATION:Gallagher Group\, 181 Kahikatea Drive\, Hamilton
DESCRIPTION:https://nzsug.co.nz/event-2355814\n\nRegister now for this event.   \n  Once again the Gallagher Group will be kindly hosting us on their premises at 181 Kahikatea Drive\, Hamilton.\n   \n  We have some exciting presentations to share including:    \n      *             Neptune/SAP Mobilization             \n\n        *             S4 HANA Installation             \n\n        *             Change Leadership        \n\n        *             Article Profitability (SAP Reporting & Planning)        \n\n        *             SuccessFactors Employee Central Implementation        \n\n        *             SAP Testing        \n\n        *             Data Science and Artificial Intelligence                       \n\n  An overview of the presentations can be found here. The agenda is also available on our website here.\n   \n  There will also be a room available in the afternoon for Partners and Customers to network or for you to have a more in depth conversation with our presenters.\n  \n \n
DTSTAMP:20260424T130116Z
END:VEVENT
END:VCALENDAR
