BEGIN:VCALENDAR
VERSION:2.0
METHOD:PUBLISH
BEGIN:VEVENT
UID:WILD_APRICOT_EVENT_2355813_SESSION_1
DTSTART:20170906T200000Z
DTEND:20170907T043000Z
SUMMARY:Auckland NZSUG + SAP Summit 2017
LOCATION:Aotea Centre\, 50 Mayoral Drive\, Auckland
DESCRIPTION:http://nzsug.co.nz/event-2355813\n\nLocation: Lower NZI Rooms\, Aotea Centre\, 50 Mayoral Drive. Auckland\nDate: Thursday 7th Sept 2017\n  Registrations open 8:00am\n      Join us in Auckland for this awesome event with International keynote speaker Ken Tsai and exciting presentations including:\n      *             HANA Cloud Platform        \n\n        *             Multi Cloud Architecture                 \n\n        *             Leonardo        \n\n        *             Process Mining with Celonis         \n\n        *             Machine Learning              \n\n        *             SuccessFactors            \n\n        *             Disclosure Management         \n\n        *             Digital trends impacting HR          \n\n        *             Business Collaboration        \n\n        *             Hybrid Cloud        \n\n        *             SAO Fieldglass        \n\n        *             Mobile Asset Management         \n\n        *             Performance Testing                \n\n  An overview of the presentations can be found here and the agenda is on our website.\n   \n  SAP will also be running a full stream of S/4 HANA sessions and a SAP Apple Workshop where you can create your own App. Register for the Apple Workshop here.\n        Terms and conditions for this event can be found here.\n   \n  Platinum Sponsors: \n                                     \n                                                        \n          \n                                                  \n  Gold Sponsors:\n                                     \n                                                                  \n                                                                  \n                                                  \n  Silver Sponsors:\n                                     \n                                                                                                  \n           \n                                                        \n                                             \n                                                        \n           \n           \n                            Bronze Sponsors:\n                                                                                             \n
DTSTAMP:20180120T190858Z
END:VEVENT
END:VCALENDAR
