BEGIN:VCALENDAR
VERSION:2.0
METHOD:PUBLISH
BEGIN:VEVENT
UID:WILD_APRICOT_EVENT_2198938_SESSION_1
DTSTART:20160412T210000Z
DTEND:20160413T033000Z
SUMMARY:Expression of Interest - Christchurch Event 2016
LOCATION:TBA
DESCRIPTION:http://nzsug.co.nz/event-2198938\n\nFor some time\, the Executive have been keen to hold an event in Christchurch to reduce travel costs for our South Island members.  We would like the first event to run over half a day with some presentations and networking opportunities.  As this would be our first event\, we have no idea of potential numbers who might attend.  So before we go much further we'd like some indication of interest.\n\n  \n\n  If you  would be interested to attend an event in Christchurch please complete the 'Expression of Interest' registration. Please indicate your interest in attending\, if your company would be able to host the meeting and if you (or someone from your organisation) would like to present at this meeting.\n  \n\n  We propose to hold this event some time in April or May 2016. Please ignore the expression of interest date of 13th April - this is just a suggested date.\n\n  \n\n\n
DTSTAMP:20180120T191138Z
END:VEVENT
END:VCALENDAR
