BEGIN:VCALENDAR
VERSION:2.0
METHOD:PUBLISH
BEGIN:VEVENT
UID:WILD_APRICOT_EVENT_2095742_SESSION_1
DTSTART:20160907T200000Z
DTEND:20160908T043000Z
SUMMARY:Auckland NZSUG + SAP Run Live Summit
LOCATION:Aotea Centre\, 50 Mayoral Drive\, Auckland
DESCRIPTION:http://nzsug.co.nz/event-2095742\n\nNew Zealand SAP User Group and SAP Run Live Summit.\n  Location: Lower NZI Rooms\, Aotea Centre\, 50 Mayoral Drive. Auckland\n\n  Date: Thursday 8th Sept 2016\n  Registrations open 8:00am\n   \n  We have loads of interesting content for the Auckland event.\n  We are excited that Hala Zeine (Senior Vice President\, SAP Portfolio and Commercilaization at SAP SE Germany) will be joining us.\n  SAP will be running five Fiori UX Sessions including:\n      *             UX & Fiori Strategy & Roadmap        \n\n        *             Fiori 2.0 for S/4 HANA        \n\n        *             SAP CoPilot        \n\n        *             Fiori Deployment Options for S/4 and ERP6        \n\n        *             Implementing SAP Fiori in the Cloud            \n\n  Plus we’ll have 15 Customer and Partner Sessions across three streams covering both current and new technologies including:\n      * Procurement Excellance (Ariba)\n\n        * Journey to S/4 HANA\n\n        * SAP Digital Boardroom\n\n        * IoT Mobile Sensors\n\n        * BI Strategy and Tools\n\n        * Value & Innovations with S/4 HANA\n\n        * S/4 HANA at the core of Digital Future\n\n        * Solution Manager\n\n        * SuccessFactors\n\n        * Making Mobility Work\n\n        * SAP Infrastrcuture\n\n        * SAP Security Products\n\n  The Agenda is available on our Website.\n   \n  SAP will also be running 4 SAP HANA Cloud Platform workshops on the 9th September between 10am and 4pm at SAP NZ office in Auckland\, L15 - 151 Queen Street. Check the NZSUG website for workshop details and the registration link.\n   \n   \n  Terms and conditions for this event can be found here.\n   \n  Premier Sponsors: \n                                     \n                                                        \n           \n          \n                                                                            \n                                                                  \n                                                                            \n                                                                  \n                                                       \n
DTSTAMP:20180120T191024Z
END:VEVENT
END:VCALENDAR
