BEGIN:VCALENDAR
VERSION:2.0
METHOD:PUBLISH
BEGIN:VEVENT
UID:WILD_APRICOT_EVENT_2095741_SESSION_1
DTSTART:20161115T200000Z
DTEND:20161116T030000Z
SUMMARY:NZSUG Hamilton Event + AGM 2016
LOCATION:Gallagher Group\, 181 Kahikatea Drive\, Hamilton
DESCRIPTION:http://nzsug.co.nz/event-2095741\n\nRegistrations are closing soon for this event so don't be the one to miss out.           \n  We have some exciting content to share including:\n      *             SAP Global Batch Trace Tool          \n\n        *             Forecast and Replenishment        \n\n        *             SAP on Amazon Web Service        \n\n        *             Automated Analytics             \n\n        *             Deloitte/SAP/Apple Partnership          \n\n        *             S4 HANA 1610 Update        \n\n        *             BW/4 HANA        \n\n  The following documents are available on our website:\n      *             Agenda        \n\n        *             Presentations Overview        \n\n        *             AGM Documents        \n\n  We would like to thanks the Gallagher Group for kindly hosting us on their premises at 181 Kahikatea Drive\, Hamilton.\n
DTSTAMP:20180120T191013Z
END:VEVENT
END:VCALENDAR
