BEGIN:VCALENDAR
VERSION:2.0
METHOD:PUBLISH
BEGIN:VEVENT
UID:WILD_APRICOT_EVENT_2095737_SESSION_1
DTSTART:20160615T210000Z
DTEND:20160616T040000Z
SUMMARY:NZSUG Wellington Event 2016
LOCATION:Deloitte House\, Brandon St\, Wellington
DESCRIPTION:http://nzsug.co.nz/event-2095737\n\nWe have some very interesting content to present in Wellington.\n  A keynote from UXCOxygen CEO\, Stuart Dickinson on  Sapphire 2016 Update and Hybris 2016 Update.\n\n  Presentations from Customers and Subscribed Partners featuring:\n\n      * Hybris Public Sector Accelerator\n\n\n        * SuccessFactors Implementation\n\n        * Testing - Strategic Positioning\n\n        * SAP HANA - The Implementation Journey\n\n        * BI Tools and Strategy\n\n\n  An overview of the presentations can be found here.\n\n  The Agenda is available on our website here.\n\n\n   \n
DTSTAMP:20180120T191117Z
END:VEVENT
END:VCALENDAR
