BEGIN:VCALENDAR
VERSION:2.0
METHOD:PUBLISH
BEGIN:VEVENT
UID:WILD_APRICOT_EVENT_1963861_SESSION_1
DTSTART:20151117T200000Z
DTEND:20151118T030000Z
SUMMARY:NZSUG Hamilton Event + AGM 2015
LOCATION:Gallagher Group\, 181 Kahikatea Drive\, Hamilton
DESCRIPTION:http://nzsug.co.nz/event-1963861\n\nRegistrations are open for this event.  \n\n  Once again the Gallagher Group will be kindly hosting us on their premises at 181 Kahikatea Drive\, Hamilton.\n  \n\n  We have some great content lined up including sessions covering:\n      * SAP Warehouse management\n\n\n        * Cloud Integration\n\n\n        * Analytics (new SAP Cloud offerings)\n\n        * Solution Manager CHARM\n\n\n        * Amazon Web Services\n\n\n        * Work Planning and Performance Monitoring using PM\, BI and BO\n\n\n        * The transition pathway to S/4HANA\n\n\n  The agenda can be viewed here.   \n\n  \n\n  Register now to secure your spot at the event.\n  \n\n  We also hold our AGM at Hamilton. \n  \n\n  We are seeking nominations to the Executive and the nomination form can be downloaded here.   Nominations close at 5:00pm on Wednesday 11 November 2015\n
DTSTAMP:20180120T191149Z
END:VEVENT
END:VCALENDAR
