BEGIN:VCALENDAR
VERSION:2.0
METHOD:PUBLISH
BEGIN:VEVENT
UID:WILD_APRICOT_EVENT_1963856_SESSION_1
DTSTART:20160804T210000Z
DTEND:20160805T033000Z
SUMMARY:NZSUG Christchurch Event 2016
LOCATION:Tait Communications\, 245 Wooldridge Road\, Harewood\, Christchurch
DESCRIPTION:http://nzsug.co.nz/event-1963856\n\nWe have some interesting presentations to offer including:\n      *             Identity Management        \n\n        *             S/4 HANA        \n\n        *             BI Tools and Strategy         \n\n        *             SAP Hybris Public Sector Accelerator            \n\n  The agenda can be found on our website here.\n  NB: Some of these presentations are a repeat of those presented in Wellington this year.\n   \n      \n
DTSTAMP:20180120T191056Z
END:VEVENT
END:VCALENDAR
