BEGIN:VCALENDAR
VERSION:2.0
METHOD:PUBLISH
BEGIN:VEVENT
UID:WILD_APRICOT_EVENT_1963133_SESSION_1
DTSTART:20150819T200000Z
DTEND:20150820T043000Z
SUMMARY:New Zealand SAP User Group and SAP Discover Simplicity Forum
LOCATION:Aotea Centre\, 50 Mayoral Drive\, Auckland
DESCRIPTION:http://nzsug.co.nz/event-1963133\n\n    New Zealand SAP User Group and SAP Discover Simplicity Forum.\n  Location: Lower NZI rooms\, Aotea Centre\, 50 Mayoral Drive. Auckland\n\n  Date: Thursday 20th Aug 2015\n  Registrations open 8:00am\n   \n  We have loads of interesting content for the Auckland event.\n  We are excited that Sven Denecken (SAP Global Vice President Co-Innovation and Strategy S/4HANA at SAP) will be joining us.\n  Plus we’ll have 15 Customer and Partner Sessions across three streams covering both current and new technologies including:\n      * S/4 HANA\n\n        * SAP BI Analytics\n\n        * Cloud Platforms\n\n        * SuccessFactors\n\n        * Digital Transformation\n\n        * SAP Mobility\n\n        * HR Reporting\n\n  The Agenda is available on our website.\n   \n  Terms and Conditions for this event can be viewed here. \n
DTSTAMP:20180120T191231Z
END:VEVENT
END:VCALENDAR
