BEGIN:VCALENDAR
VERSION:2.0
METHOD:PUBLISH
BEGIN:VEVENT
UID:WILD_APRICOT_EVENT_1922372_SESSION_1
DTSTART:20150512T210000Z
DTEND:20150513T040000Z
SUMMARY:NZSUG Wellington Event 2015
LOCATION:Deloitte House\, Brandon St\, Wellington
DESCRIPTION:http://nzsug.co.nz/event-1922372\n\nWe have have lots of interesting content confirmed for Wellington.\n\n  A keynote from Soltius CEO\, Nick Mulcahy on his experiences at this year's Sapphire.\n\n  Presentations featuring Government in 2020\, what Wellington might look like and the technology supporting the vision.\n\n  Sessions from Customers who are living the future now:\n\n        * Livestock Improvement Corp on their use of SuccessFactors\n\n\n        * Auckland Council CIO Mike Foley on citizen engagement using SAP mobility\n\n\n        * Automated testing using Solution Manager\n\n\n    And a session on "Disruptive Innovation" which includes a look at Sensors and iBeacons.\n  \n\n  For detailed information on content go to our website.\n  \n\n  \n\n  Event sponsored by\n  \n
DTSTAMP:20180120T191252Z
END:VEVENT
END:VCALENDAR
